BEGIN:VCALENDAR
VERSION:2.0
CALSCALE:GREGORIAN
PRODID:adamgibbons/ics
METHOD:PUBLISH
X-PUBLISHED-TTL:PT1H
BEGIN:VEVENT
UID:29@agenda.radwende-rheinsieg.de
SUMMARY:Critical Mass Bonn
DTSTAMP:20260422T170111Z
DTSTART:20260424T160000Z
URL:https://agenda.radwende-rheinsieg.de/event/critical-mass-bonn-10
GEO:50.7327;7.10435
LOCATION:Bonn\, Hofgarten - Hofgarten
STATUS:CONFIRMED
CATEGORIES:ADFC,Bonn,Critical Mass
END:VEVENT
END:VCALENDAR
