BEGIN:VCALENDAR
VERSION:2.0
CALSCALE:GREGORIAN
PRODID:adamgibbons/ics
METHOD:PUBLISH
X-PUBLISHED-TTL:PT1H
BEGIN:VEVENT
UID:17@agenda.radwende-rheinsieg.de
SUMMARY:Kidical Mass Sankt Augustin
DTSTAMP:20260422T154017Z
DTSTART:20250928T120000Z
DESCRIPTION:Die ADFC Ortsgruppen aus Sankt Augustin und Siegburg laden am 2
	8.09.2025 wieder\nzur Kidical Mass ein. Die zentrale Forderung: Sichere Sc
	hul- und Radwege in und\nzwischen den Städten!\n\nIm Rahmen der Kidical Ma
	ss Aktionstage vom 15.09.–24.10.2025 finden in ganz\nDeutschland Kidical M
	ass Touren [https://kinderaufsrad.org/] statt.\n\nAuch die ADFC Ortsgruppe
	n Sankt Augustin und Siegburg rufen am Sonntag\, den\n28.09.2025 wieder zu
	r Kinder-Fahrrad-Demo „Kidical Mass“ auf. Unter dem Motto\n"Kinder aufs Ra
	d" setzen sich die Teilnehmer*innen für eine kinderfreundliche\nVerkehrspo
	litik ein.\n\nNicht nur Kinder und Jugendliche\, auch Eltern\, Großeltern 
	und Unterstützer:innen\nsind herzlich eingeladen. Das Tempo und die Streck
	e sind bereits für die\nKleinsten geeignet. Die Polizei sichert die Wege u
	nd begleitet die\nVeranstaltung.\n\nDas Ziel: Kinder und Jugendliche solle
	n sich sicher mit dem Rad in ihren Städten\nbewegen können. Zur Schule\, z
	u Freund:innen oder zum Sport. Das ist in beiden\nOrten oft nicht möglich\
	, weil ein lückenloses Netz sicherer Radwege fehlt. Auch\ngute Radwege zu 
	nahegelegenen Nachbarstädten sind für Kinder und Jugendliche\nwichtig.\n\n
	\nZWEI DEMOS\, EIN ZIEL\n\nSonntag\, 28.09.2025 jeweils um 14:00 Uhr\nStar
	t Siegburg: Pleiser Hecke 4\, RSAG\, Siegburg (https://siegburg.adfc.de/km
	\n[https://siegburg.adfc.de/km])\nStart Sankt Augustin: Karl-Gatzweiler-Pl
	atz (vor dem Rathaus\,\nhttps://sankt-augustin.adfc.de/kidical-mass\n[http
	s://sankt-augustin.adfc.de/kidical-mass])\, Sankt Augustin (Streckenverlau
	f\n[https://sankt-augustin.adfc.de/km-route] – ab Menden Markt schließt si
	ch die\nBürgerinitiative “Menden Clean Up” mit ihren Unterstützer:innen an
	\, Treffpunkt\ndort ist 14:00 Uhr: Damit wollen wir gemeinsam die bislang 
	unzureichende\nFahrradinfrastruktur auf der Siegstraße\, insbesondere für 
	junge Radfahrende\,\nanmahnen)\nGemeinsames Ziel: Markt\, Siegburg – mit W
	affeln\, Getränken und Spielsachen\n\nHier [https://list.radwende-rheinsie
	g.de/subscription/form] können sich\nInteressent:innen in den Newsletter e
	intragen\, um über die Kidical Mass\nRhein-Sieg Aktionen zukünftig informi
	ert zu werden. Auch Mitstreiter:innen sind\nimmer herzlich willkommen!
URL:https://agenda.radwende-rheinsieg.de/event/kidical-mass-sankt-augustin
GEO:50.7771;7.18658
LOCATION:Sankt Augustin\, Karl-Gatzweiler-Platz - Karl-Gatzweiler-Platz
STATUS:CONFIRMED
CATEGORIES:ADFC,Kidical Mass,Sankt Augustin
X-ALT-DESC;FMTTYPE=text/html:<p>Die ADFC Ortsgruppen aus Sankt Augustin und
	 Siegburg laden am 28.09.2025 wieder zur Kidical Mass ein. Die zentrale Fo
	rderung: Sichere Schul- und Radwege in und zwischen den Städten!</p><p>Im 
	Rahmen der Kidical Mass Aktionstage vom 15.09.–24.10.2025 finden in ganz D
	eutschland <a href="https://kinderaufsrad.org/" target="_blank">Kidical Ma
	ss Touren</a> statt.</p><p>Auch die ADFC Ortsgruppen Sankt Augustin und Si
	egburg rufen am Sonntag, den 28.09.2025 wieder zur Kinder-Fahrrad-Demo „Ki
	dical Mass“ auf. Unter dem Motto "Kinder aufs Rad" setzen sich die Teilneh
	mer*innen für eine kinderfreundliche Verkehrspolitik ein.</p><p>Nicht nur 
	Kinder und Jugendliche, auch Eltern, Großeltern und Unterstützer:innen sin
	d herzlich eingeladen. Das Tempo und die Strecke sind bereits für die Klei
	nsten geeignet. Die Polizei sichert die Wege und begleitet die Veranstaltu
	ng.</p><p>Das Ziel: Kinder und Jugendliche sollen sich sicher mit dem Rad 
	in ihren Städten bewegen können. Zur Schule, zu Freund:innen oder zum Spor
	t. Das ist in beiden Orten oft nicht möglich, weil ein lückenloses Netz si
	cherer Radwege fehlt. Auch gute Radwege zu nahegelegenen Nachbarstädten si
	nd für Kinder und Jugendliche wichtig.</p><h2>Zwei Demos, ein Ziel</h2><p>
	<strong>Sonntag, 28.09.2025 jeweils um 14:00 Uhr</strong><br><strong>Start
	 Siegburg</strong>: Pleiser Hecke 4, RSAG, Siegburg (<a href="https://sieg
	burg.adfc.de/km" target="_blank">https://siegburg.adfc.de/km</a>)<br><stro
	ng>Start Sankt Augustin:</strong> Karl-Gatzweiler-Platz (vor dem Rathaus, 
	<a href="https://sankt-augustin.adfc.de/kidical-mass" target="_blank">http
	s://sankt-augustin.adfc.de/kidical-mass</a>), Sankt Augustin (<a href="htt
	ps://sankt-augustin.adfc.de/km-route" target="_blank">Streckenverlauf</a> 
	– ab Menden Markt schließt sich die Bürgerinitiative “Menden Clean Up” mit
	 ihren Unterstützer:innen an, Treffpunkt dort ist 14:00 Uhr: Damit wollen 
	wir gemeinsam die bislang unzureichende Fahrradinfrastruktur auf der Siegs
	traße, insbesondere für junge Radfahrende, anmahnen)<br><strong>Gemeinsame
	s Ziel</strong>: Markt, Siegburg – mit Waffeln, Getränken und Spielsachen<
	/p><p><a href="https://list.radwende-rheinsieg.de/subscription/form" targe
	t="_blank">Hier</a> können sich Interessent:innen in den Newsletter eintra
	gen, um über die Kidical Mass Rhein-Sieg Aktionen zukünftig informiert zu 
	werden. Auch Mitstreiter:innen sind immer herzlich willkommen!</p>
BEGIN:VALARM
ACTION:DISPLAY
DESCRIPTION:Kidical Mass Sankt Augustin
TRIGGER:-PT1H
END:VALARM
END:VEVENT
END:VCALENDAR
