BEGIN:VCALENDAR
VERSION:2.0
CALSCALE:GREGORIAN
PRODID:adamgibbons/ics
METHOD:PUBLISH
X-PUBLISHED-TTL:PT1H
BEGIN:VEVENT
UID:20@agenda.radwende-rheinsieg.de
SUMMARY:Kidical Mass Lohmar
DTSTAMP:20260422T154007Z
DTSTART:20250928T120000Z
DESCRIPTION:Gemeinsames Ziel zusammen mit den Kidical Mass Touren Sankt Aug
	ustin und\nSiegburg: Markt\, Siegburg – mit Waffeln\, Getränken und Spiels
	achen
URL:https://agenda.radwende-rheinsieg.de/event/kidical-mass-lohmar-1
GEO:50.8404;7.21254
LOCATION:Lohmar\, Rathausplatz - 4\, Rathausstraße\, Lohmar\, Rhein-Sieg-Kr
	eis\, Nordrhein-Westfalen\, 53797\, Deutschland
STATUS:CONFIRMED
CATEGORIES:ADFC,Kidical Mass,Lohmar
X-ALT-DESC;FMTTYPE=text/html:<p><strong>Gemeinsames Ziel zusammen mit den K
	idical Mass Touren Sankt Augustin und Siegburg</strong>: Markt, Siegburg –
	 mit Waffeln, Getränken und Spielsachen</p>
BEGIN:VALARM
ACTION:DISPLAY
DESCRIPTION:Kidical Mass Lohmar
TRIGGER:-PT1H
END:VALARM
END:VEVENT
END:VCALENDAR
