BEGIN:VCALENDAR
VERSION:2.0
CALSCALE:GREGORIAN
PRODID:adamgibbons/ics
METHOD:PUBLISH
X-PUBLISHED-TTL:PT1H
BEGIN:VEVENT
UID:21@agenda.radwende-rheinsieg.de
SUMMARY:Kidical Mass Hennef
DTSTAMP:20260422T154008Z
DTSTART:20250928T120000Z
URL:https://agenda.radwende-rheinsieg.de/event/kidical-mass-hennef-1
GEO:50.7749;7.28367
LOCATION:Hennef\, Marktplatz - Marktplatz
STATUS:CONFIRMED
CATEGORIES:ADFC,Hennef,Kidical Mass
BEGIN:VALARM
ACTION:DISPLAY
DESCRIPTION:Kidical Mass Hennef
TRIGGER:-PT1H
END:VALARM
END:VEVENT
END:VCALENDAR
