BEGIN:VCALENDAR
VERSION:2.0
CALSCALE:GREGORIAN
PRODID:adamgibbons/ics
METHOD:PUBLISH
X-PUBLISHED-TTL:PT1H
BEGIN:VEVENT
UID:22@agenda.radwende-rheinsieg.de
SUMMARY:Kidical Mass Bornheim
DTSTAMP:20260422T154017Z
DTSTART:20251004T090000Z
URL:https://agenda.radwende-rheinsieg.de/event/kidical-mass-bornheim-1
GEO:50.7581;7.00294
LOCATION:Bornheim\, Alexander-von-Humboldt Gymnasium - Bonner Straße\, Rois
	dorf\, Bornheim\, Rhein-Sieg-Kreis\, Nordrhein-Westfalen\, 53332\, Deutsch
	land
STATUS:CONFIRMED
CATEGORIES:ADFC,Bornheim,Kidical Mass
BEGIN:VALARM
ACTION:DISPLAY
DESCRIPTION:Kidical Mass Bornheim
TRIGGER:-PT1H
END:VALARM
END:VEVENT
END:VCALENDAR
